BEGIN:VCALENDAR
VERSION:2.0
PRODID:Events Booking
BEGIN:VEVENT
UID:69e5f57010188
SUMMARY:Stille Viering Goede Vrijdag om 20 uur in Filosofenfontein
DESCRIPTION:Vrijdag 3 april 2026: Stille Viering Goede Vrijdag om 20 uur in
  Filosofenfontein
LOCATION:Waversebaan\, 352\, 3001 Heverlee
DTSTART:20260403T180000Z
DTSTAMP:20260213T074423Z
ORGANIZER;CN=test Web site Filosofenfontein:MAILTO:FIFO Live
GEO:50.850873;4.675191
X-APPLE-STRUCTURED-LOCATION;VALUE=URI;X-ADDRESS=Waversebaan\, 352\, 3001 He
 verlee;X-APPLE-RADIUS=72;X-TITLE=Filosofenfontein Waversebaan 352\, 3001\,
  Heverlee (Leuven):50.850873;4.675191
END:VEVENT
END:VCALENDAR