BEGIN:VCALENDAR
VERSION:2.0
PRODID:Events Booking
BEGIN:VEVENT
UID:69e5f5ab29c02
SUMMARY:KOV Bezinningsdagen voor onderwijsmensen - Pelgrims
DESCRIPTION:\"Als pelgrims op stap\"&nbsp\;
 met Christine Van Dessel &amp
 \; Jos Bielen&nbsp\;
 
 Folder van het evenement:&nbsp\;Download Folder
LOCATION:Abdijstraat 1\, 3271 Scherpenheuvel-Zichem
DTSTART:20241122T230000Z
DTSTAMP:20240830T051039Z
ORGANIZER;CN=test Web site Filosofenfontein:MAILTO:FIFO Live
GEO:51.03261;4.980702
X-APPLE-STRUCTURED-LOCATION;VALUE=URI;X-ADDRESS=Abdijstraat 1\, 3271 Scherp
 enheuvel-Zichem;X-APPLE-RADIUS=72;X-TITLE=Abdij van Averbode:51.03261;4.98
 0702
END:VEVENT
END:VCALENDAR